BEGIN:VCALENDAR
VERSION:2.0
PRODID:-//Centre Régional d&#039;Intégration de Charleroi - ECPv6.15.20//NONSGML v1.0//EN
CALSCALE:GREGORIAN
METHOD:PUBLISH
X-ORIGINAL-URL:https://www.cricharleroi.be
X-WR-CALDESC:Évènements pour Centre Régional d&#039;Intégration de Charleroi
REFRESH-INTERVAL;VALUE=DURATION:PT1H
X-Robots-Tag:noindex
X-PUBLISHED-TTL:PT1H
BEGIN:VTIMEZONE
TZID:Europe/Brussels
BEGIN:DAYLIGHT
TZOFFSETFROM:+0100
TZOFFSETTO:+0200
TZNAME:CEST
DTSTART:20240331T010000
END:DAYLIGHT
BEGIN:STANDARD
TZOFFSETFROM:+0200
TZOFFSETTO:+0100
TZNAME:CET
DTSTART:20241027T010000
END:STANDARD
BEGIN:DAYLIGHT
TZOFFSETFROM:+0100
TZOFFSETTO:+0200
TZNAME:CEST
DTSTART:20250330T010000
END:DAYLIGHT
BEGIN:STANDARD
TZOFFSETFROM:+0200
TZOFFSETTO:+0100
TZNAME:CET
DTSTART:20251026T010000
END:STANDARD
BEGIN:DAYLIGHT
TZOFFSETFROM:+0100
TZOFFSETTO:+0200
TZNAME:CEST
DTSTART:20260329T010000
END:DAYLIGHT
BEGIN:STANDARD
TZOFFSETFROM:+0200
TZOFFSETTO:+0100
TZNAME:CET
DTSTART:20261025T010000
END:STANDARD
END:VTIMEZONE
BEGIN:VEVENT
DTSTART;TZID=Europe/Brussels:20251203T133000
DTEND;TZID=Europe/Brussels:20251203T163000
DTSTAMP:20260423T120903
CREATED:20250701T082124Z
LAST-MODIFIED:20251106T143854Z
UID:28140-1764768600-1764779400@www.cricharleroi.be
SUMMARY:👩‍🏫 « KROIROUPA » Déconstruction des préjugés sur les religions et les croyances
DESCRIPTION:  \n \n« KROIROUPA » Déconstruction des préjugés sur les religions et les croyances\nOutil pédagogique \nIntroduction\nKROIROUPA est un outil ludique permettant à chacun de se retrouver dans la découverte des religions et de la laïcité. Un jeu qui rassemble au lieu de diviser pouvant être utilisé avec un public varié de 10 à 120 ans ! \nContenu\nPrésentation du Centre d’Education à la Citoyenneté\, du CCLJ et du programme « La haine\, je dis NON ! ».\nPrésentation du jeu Kroiroupa composé de cartes illustrées et d’un carnet\, utilisable notamment sous la forme d’un « MEMORY » doublé d’un QUIZZ permettant d’aborder les différentes religions monothéistes\, indiennes\, ainsi que la laïcité. \nLe jeu poursuit plusieurs objectifs : \n\ngés permettant à votre public (jeune ou adulte) de parler ensemble et d’échanger sur ces sujets parfois polarisants ;\nDévelopper l’esprit critique\, faire le tri entre ce qu’ils croient savoir sur les religions et ce qu’il en est réellement ;\nComprendre d’où viennent certaines pratiques et symboles religieux ;\nDéconstruire les stéréotypes et préjugés liés aux croyances\, convictions religieuses ou encore au principe de laïcité ;\nContribuer au « vivre ensemble ».\n\nDécouverte des différentes méthodes de jeu\, et échanges sur les attentes et expérimentations\npossibles.\nUn exemplaire du jeu « KROIROUPA – La haine\, je dis NON ! » sera remis à chacun en fin de séance. \nObjectifs\nS’approprier le jeu KROIROUPA et apprendre à l’animer. \nMéthodologie\nActive et participative. Alternance entre expérimentations du jeu et réflexions pédagogiques.\nMise en situation. \nPublic\nTout professionnel travaillant avec des jeunes et ou adultes. \nIntervenantes\nZora VARDAJ\, animatrice socioculturelle\, cheffe de projet Kroiroupa\, et Céline LAMADON\, animatrice socioculturelle du Centre d’Education à la Citoyenneté du CCLJ (Centre Communautaire Laïc Juif David SUSSKIND). \nLa formation est reconnue par IFPC. La référence du code consacré à cette formation porte le numéro « 070102585/57533». Les enseignants sont donc invités à s’inscrire via le lien suivant Voici le lien direct\, et demander à leur direction la clé d’inscription aux formations CIF.
URL:https://www.cricharleroi.be/evenements/%f0%9f%91%a9%f0%9f%8f%ab-kroiroupa-deconstruction-des-prejuges-sur-les-religions-et-les-croyances/
LOCATION:Centre Régional d’Intégration de Charleroi\, 23 rue Hanoteau\, Gilly\, Hainaut\, 6060\, Belgique
CATEGORIES:Formations
ATTACH;FMTTYPE=image/png:https://www.cricharleroi.be/wp-content/uploads/2025/07/NEWSLETTER_Canvas_2025_2_kroiroupa-scaled.png
END:VEVENT
END:VCALENDAR