BEGIN:VCALENDAR
VERSION:2.0
PRODID:-//Centre Régional d&#039;Intégration de Charleroi - ECPv6.15.20//NONSGML v1.0//EN
CALSCALE:GREGORIAN
METHOD:PUBLISH
X-WR-CALNAME:Centre Régional d&#039;Intégration de Charleroi
X-ORIGINAL-URL:https://www.cricharleroi.be
X-WR-CALDESC:Évènements pour Centre Régional d&#039;Intégration de Charleroi
REFRESH-INTERVAL;VALUE=DURATION:PT1H
X-Robots-Tag:noindex
X-PUBLISHED-TTL:PT1H
BEGIN:VTIMEZONE
TZID:Europe/Brussels
BEGIN:DAYLIGHT
TZOFFSETFROM:+0100
TZOFFSETTO:+0200
TZNAME:CEST
DTSTART:20250330T010000
END:DAYLIGHT
BEGIN:STANDARD
TZOFFSETFROM:+0200
TZOFFSETTO:+0100
TZNAME:CET
DTSTART:20251026T010000
END:STANDARD
BEGIN:DAYLIGHT
TZOFFSETFROM:+0100
TZOFFSETTO:+0200
TZNAME:CEST
DTSTART:20260329T010000
END:DAYLIGHT
BEGIN:STANDARD
TZOFFSETFROM:+0200
TZOFFSETTO:+0100
TZNAME:CET
DTSTART:20261025T010000
END:STANDARD
BEGIN:DAYLIGHT
TZOFFSETFROM:+0100
TZOFFSETTO:+0200
TZNAME:CEST
DTSTART:20270328T010000
END:DAYLIGHT
BEGIN:STANDARD
TZOFFSETFROM:+0200
TZOFFSETTO:+0100
TZNAME:CET
DTSTART:20271031T010000
END:STANDARD
END:VTIMEZONE
BEGIN:VEVENT
DTSTART;TZID=Europe/Brussels:20260516T140000
DTEND;TZID=Europe/Brussels:20260516T170000
DTSTAMP:20260425T173039
CREATED:20260422T113859Z
LAST-MODIFIED:20260422T113859Z
UID:31082-1778940000-1778950800@www.cricharleroi.be
SUMMARY:🎶 Festival de chants et musiques sacrés
DESCRIPTION:Festival de chants et musiques sacrés à Charleroi : « L’unité dans la diversité » \nDans le cadre de la Journée du Vivre Ensemble\, la Plateforme interreligieuse et interculturelle\, organise le tout premier festival de chants et musiques sacrés. \nCet événement inédit rassemblera différentes croyances\, de nombreuses traditions religieuses et spirituelles autour d’un objectif commun : favoriser la rencontre\, le dialogue et la compréhension mutuelle à travers la dimension du sensible\, voire des disciplines artistiques. \nÀ travers le chant\, la musique\, la poésie\, la chorégraphie….ce festival mettra en lumière la richesse des cultures et des croyances présentes sur notre territoire\, au pays de Charleroi. \nLa philosophie de l’événement\, incarne majestueusement cette volonté de rassembler des femmes et des hommes de différentes composantes. \nPour les organisateurs de l’événement\, c’est par l’intermédiaire des différences que nous pouvons nous rassembler et valoriser la diversité culturelle\, comme un moteur de richesse commune\, de résilience et d’empathie… \n  \n 
URL:https://www.cricharleroi.be/evenements/%f0%9f%8e%b6-festival-de-chants-et-musiques-sacres/
CATEGORIES:Concert
END:VEVENT
END:VCALENDAR