BEGIN:VCALENDAR
VERSION:2.0
PRODID:-//Centre Régional d&#039;Intégration de Charleroi - ECPv6.15.20//NONSGML v1.0//EN
CALSCALE:GREGORIAN
METHOD:PUBLISH
X-WR-CALNAME:Centre Régional d&#039;Intégration de Charleroi
X-ORIGINAL-URL:https://www.cricharleroi.be
X-WR-CALDESC:Évènements pour Centre Régional d&#039;Intégration de Charleroi
REFRESH-INTERVAL;VALUE=DURATION:PT1H
X-Robots-Tag:noindex
X-PUBLISHED-TTL:PT1H
BEGIN:VTIMEZONE
TZID:Europe/Brussels
BEGIN:DAYLIGHT
TZOFFSETFROM:+0100
TZOFFSETTO:+0200
TZNAME:CEST
DTSTART:20240331T010000
END:DAYLIGHT
BEGIN:STANDARD
TZOFFSETFROM:+0200
TZOFFSETTO:+0100
TZNAME:CET
DTSTART:20241027T010000
END:STANDARD
BEGIN:DAYLIGHT
TZOFFSETFROM:+0100
TZOFFSETTO:+0200
TZNAME:CEST
DTSTART:20250330T010000
END:DAYLIGHT
BEGIN:STANDARD
TZOFFSETFROM:+0200
TZOFFSETTO:+0100
TZNAME:CET
DTSTART:20251026T010000
END:STANDARD
BEGIN:DAYLIGHT
TZOFFSETFROM:+0100
TZOFFSETTO:+0200
TZNAME:CEST
DTSTART:20260329T010000
END:DAYLIGHT
BEGIN:STANDARD
TZOFFSETFROM:+0200
TZOFFSETTO:+0100
TZNAME:CET
DTSTART:20261025T010000
END:STANDARD
END:VTIMEZONE
BEGIN:VEVENT
DTSTART;TZID=Europe/Brussels:20251107T193000
DTEND;TZID=Europe/Brussels:20251107T220000
DTSTAMP:20260421T191119
CREATED:20251027T122622Z
LAST-MODIFIED:20251107T123716Z
UID:29250-1762543800-1762552800@www.cricharleroi.be
SUMMARY:🎥 Avant première "la voix de Hind Rajab "
DESCRIPTION:Le CRIC organise une avant-première exceptionnelle du film « la voix de Hind Rajab ».\nUn film puissant de la réalisatrice tunisienne Kaouther ben Hania\, qui aborde l’histoire tragique de Hinde Rajab\,\nune fillette palestinienne (âgée de 5 ans) tuée à Gaza en janvier 2024 par l’armée israélienne.\nLe propos du film s’appuie sur les véritables enregistrements de ses appels au secours enregistrés au Croissant-Rouge palestinien.\nAlors que l’enfant voulait fuir les bombardements israéliens avec sa famille sur Gaza\, la voiture familiale a été prise pour cible et tous les membres de sa famille ont été tués.\nEntourée\, des corps de ses proches\, la petite fille appelle désespérément à l’aide le centre d’appel du Croissant-Rouge palestinien\, basé en Cisjordanie.\nArrivés sur place\, les ambulanciers seront également abattus.\nUne autre équipe du croissant rouge découvrira quelques heures plus tard le corps de l’enfant…\nUn film brulant d’actualité qui nous renvoi à notre condition humaine… \n« Ce film a été très important pour moi\, car\, lorsque j’ai entendu pour la première fois la voix d’Hind Rajab\, il y avait quelque chose de plus que sa voix.\nC’était la voix de Gaza qui appelait à l’aide et dont personne ne pouvait aider !!! »\n« J’ai longuement parlé avec les personnes qui étaient avec elle à l’autre bout du fil\, ceux qui ont essayé de l’aider.\nDevant mon impuissance\, j’ai écouté\, j’ai pleuré\, j’ai écrit…»\, \nIl faut que cesse ce génocide qui se déroule sous nos yeux !!! \nKouther Ben Hania
URL:https://www.cricharleroi.be/evenements/%f0%9f%8e%a5-avant-premiere-la-voix-de-hind-rajab/
LOCATION:Quai 10 / côté PARC
CATEGORIES:Cinéma
ATTACH;FMTTYPE=image/jpeg:https://www.cricharleroi.be/wp-content/uploads/2025/10/la-voix-de-hind-rajab_Visuel-en-JPEG.jpg
END:VEVENT
END:VCALENDAR