BEGIN:VCALENDAR
VERSION:2.0
PRODID:-//Centre Régional d&#039;Intégration de Charleroi - ECPv6.15.20//NONSGML v1.0//EN
CALSCALE:GREGORIAN
METHOD:PUBLISH
X-WR-CALNAME:Centre Régional d&#039;Intégration de Charleroi
X-ORIGINAL-URL:https://www.cricharleroi.be
X-WR-CALDESC:Évènements pour Centre Régional d&#039;Intégration de Charleroi
REFRESH-INTERVAL;VALUE=DURATION:PT1H
X-Robots-Tag:noindex
X-PUBLISHED-TTL:PT1H
BEGIN:VTIMEZONE
TZID:Europe/Brussels
BEGIN:DAYLIGHT
TZOFFSETFROM:+0100
TZOFFSETTO:+0200
TZNAME:CEST
DTSTART:20250330T010000
END:DAYLIGHT
BEGIN:STANDARD
TZOFFSETFROM:+0200
TZOFFSETTO:+0100
TZNAME:CET
DTSTART:20251026T010000
END:STANDARD
BEGIN:DAYLIGHT
TZOFFSETFROM:+0100
TZOFFSETTO:+0200
TZNAME:CEST
DTSTART:20260329T010000
END:DAYLIGHT
BEGIN:STANDARD
TZOFFSETFROM:+0200
TZOFFSETTO:+0100
TZNAME:CET
DTSTART:20261025T010000
END:STANDARD
BEGIN:DAYLIGHT
TZOFFSETFROM:+0100
TZOFFSETTO:+0200
TZNAME:CEST
DTSTART:20270328T010000
END:DAYLIGHT
BEGIN:STANDARD
TZOFFSETFROM:+0200
TZOFFSETTO:+0100
TZNAME:CET
DTSTART:20271031T010000
END:STANDARD
END:VTIMEZONE
BEGIN:VEVENT
DTSTART;TZID=Europe/Brussels:20260507T130000
DTEND;TZID=Europe/Brussels:20260507T160000
DTSTAMP:20260423T181845
CREATED:20260403T100030Z
LAST-MODIFIED:20260408T094327Z
UID:30928-1778158800-1778169600@www.cricharleroi.be
SUMMARY:[Atelier] Faire (faire) de la grammaire en FLE : quels supports\, quelles approches pour quels publics ?
DESCRIPTION:La grammaire est une question épineuse\, parfois controversée mais pourtant incontournable quand on enseigne le FLE : pour qui\, pour quoi\, comment et quand faut-il « faire de la grammaire » ? Comment « faire faire » de la grammaire ? Qu’entend-on par « grammaire » et comment peut-elle servir l’autonomie langagière ? Comment rendre son apprentissage pertinent et adapté ? \nOrganisé par Objectif-fle et le Centre régional d’intégration de Charleroi\, cet atelier abordera ces questions à travers l’expérimentation et l’analyse de démarches\, et des propositions de pédagogisation d’outils existants\, tels des manuels FLE. Dans un second temps\, les participants∙es seront invités∙es à concevoir eux∙elles-mêmes des activités\, adaptées à leur groupe d’apprentissage. \nOù ? Maison pastorale de Châtelet\, 80 rue de la Vallée (Châtelet). \nQuand ? les 7 et 8 mai 2026 de 13h à 16h. \nAvec qui ? les journées sont animées par Laurence Fromont\, formatrice FLE et co-coordinatrice pédagogique du département « Formation de formateurs FLE » du Centre régional d’intégration de Charleroi. \nPour qui ? toute personne intéressée par les questions d’enseignement-apprentissage du FLE à un public adulte allophone\, en particulier les formateurs et formatrices FLE des Initiatives locales d’intégration / du secteur associatif. Aucun prérequis particulier n’est demandé mais l’atelier sera axé sur le transfert de pratiques. Maximum 12 personnes. \n  \nL’atelier est gratuit mais inscription obligatoire https://objectif-fle.be/mc-atelier-grammaire-cric-2026
URL:https://www.cricharleroi.be/evenements/atelier-faire-faire-de-la-grammaire-en-fle-quels-supports-quelles-approches-pour-quels-publics/
LOCATION:Maison Pastorale « Chez nous »\, 80 rue de la Vallée\, Châtlineau\, Hainaut\, 6200\, Belgique
CATEGORIES:Formations
ATTACH;FMTTYPE=image/png:https://www.cricharleroi.be/wp-content/uploads/2026/04/NEWSLETTER_Canvas_2026_FLE-FAIRE-FAIRE-scaled.png
END:VEVENT
END:VCALENDAR