BEGIN:VCALENDAR
VERSION:2.0
PRODID:-//Centre Régional d&#039;Intégration de Charleroi - ECPv6.15.20//NONSGML v1.0//EN
CALSCALE:GREGORIAN
METHOD:PUBLISH
X-WR-CALNAME:Centre Régional d&#039;Intégration de Charleroi
X-ORIGINAL-URL:https://www.cricharleroi.be
X-WR-CALDESC:Évènements pour Centre Régional d&#039;Intégration de Charleroi
REFRESH-INTERVAL;VALUE=DURATION:PT1H
X-Robots-Tag:noindex
X-PUBLISHED-TTL:PT1H
BEGIN:VTIMEZONE
TZID:Europe/Brussels
BEGIN:DAYLIGHT
TZOFFSETFROM:+0100
TZOFFSETTO:+0200
TZNAME:CEST
DTSTART:20240331T010000
END:DAYLIGHT
BEGIN:STANDARD
TZOFFSETFROM:+0200
TZOFFSETTO:+0100
TZNAME:CET
DTSTART:20241027T010000
END:STANDARD
BEGIN:DAYLIGHT
TZOFFSETFROM:+0100
TZOFFSETTO:+0200
TZNAME:CEST
DTSTART:20250330T010000
END:DAYLIGHT
BEGIN:STANDARD
TZOFFSETFROM:+0200
TZOFFSETTO:+0100
TZNAME:CET
DTSTART:20251026T010000
END:STANDARD
BEGIN:DAYLIGHT
TZOFFSETFROM:+0100
TZOFFSETTO:+0200
TZNAME:CEST
DTSTART:20260329T010000
END:DAYLIGHT
BEGIN:STANDARD
TZOFFSETFROM:+0200
TZOFFSETTO:+0100
TZNAME:CET
DTSTART:20261025T010000
END:STANDARD
END:VTIMEZONE
BEGIN:VEVENT
DTSTART;TZID=Europe/Brussels:20250605T093000
DTEND;TZID=Europe/Brussels:20250605T123000
DTSTAMP:20260426T053006
CREATED:20250422T083255Z
LAST-MODIFIED:20250422T083255Z
UID:26914-1749115800-1749126600@www.cricharleroi.be
SUMMARY:Autonomie MENA
DESCRIPTION:Réseautage et tables rondes du secteur MENA \n \nA 9h30 : accueil et réseautage : Les services Autonomie qui seront présents sont :\nCaritas (Liège)\, CINL (Namur/Libramont)\, Collectif des Femmes (Louvain-la-Neuve)\, Collectif Umoya (Bruxelles)\, Live in Color (Liège)\, Maison Babel (Bruxelles)\, Mentor-Escale (Namur)\, People’s place (Malmedy)\, SAM (Liège)\, d’autres partenaires et vous !\nDe 10h00 à 11h00 : 1ère table ronde (à choisir)\n11h00 à 11h30 : pause et réseautage\n11h30 à 12h30 : 2ème table ronde (à choisir)\nChoix des tables rondes (via le formulaire d’inscription ci-dessous) : \n\n1. Comment le collectif et l’individuel se complètent dans l’accompagnement du MENA en autonomie avec People’s place et Live in Color\n2. L’accompagnement des familles réunifiées des (ex-)MENA avec SAM Asbl et Caritas Liège\n3. La transition entre l’accueil phase 2 ou 3 et l’autonomie\, comment soigner les passages\, le réseau avec Mentor Escale et un tuteur\n4. La prise en charge en santé mentale des MENA du point de vue du service autonomie avec Collectif Umoya et CINL\n5. L’accompagnement en logement des services autonomie (la recherche de logement\, la gestion du logement\, etc.) avec Collectif des femmes et Maison Babel\n\nLieu de l’événement : Salle Saint-Vincent de Paul\, Avenue du Transvaal\, 96 à 5020 VEDRIN (1\,3km de la gare de Namur selon Google). \nL’inscription gratuite (mais obligatoire) se fait au moyen de ce formulaire (jusqu’à épuisement des places disponibles et de préférence pour le 20 mai- places limitées). \n 
URL:https://www.cricharleroi.be/evenements/autonomie-mena/
LOCATION:Salle Saint-Vincent de Paul\, Avenue du Transvaal 96\, 5020 VEDRIN\, Namur
CATEGORIES:Colloque,Plateforme
ATTACH;FMTTYPE=image/png:https://www.cricharleroi.be/wp-content/uploads/2025/04/MENA_2025_juin_5_Namur.png
END:VEVENT
END:VCALENDAR