BEGIN:VCALENDAR
VERSION:2.0
PRODID:-//Centre Régional d&#039;Intégration de Charleroi - ECPv6.15.20//NONSGML v1.0//EN
CALSCALE:GREGORIAN
METHOD:PUBLISH
X-WR-CALNAME:Centre Régional d&#039;Intégration de Charleroi
X-ORIGINAL-URL:https://www.cricharleroi.be
X-WR-CALDESC:Évènements pour Centre Régional d&#039;Intégration de Charleroi
REFRESH-INTERVAL;VALUE=DURATION:PT1H
X-Robots-Tag:noindex
X-PUBLISHED-TTL:PT1H
BEGIN:VTIMEZONE
TZID:Europe/Brussels
BEGIN:DAYLIGHT
TZOFFSETFROM:+0100
TZOFFSETTO:+0200
TZNAME:CEST
DTSTART:20250330T010000
END:DAYLIGHT
BEGIN:STANDARD
TZOFFSETFROM:+0200
TZOFFSETTO:+0100
TZNAME:CET
DTSTART:20251026T010000
END:STANDARD
BEGIN:DAYLIGHT
TZOFFSETFROM:+0100
TZOFFSETTO:+0200
TZNAME:CEST
DTSTART:20260329T010000
END:DAYLIGHT
BEGIN:STANDARD
TZOFFSETFROM:+0200
TZOFFSETTO:+0100
TZNAME:CET
DTSTART:20261025T010000
END:STANDARD
BEGIN:DAYLIGHT
TZOFFSETFROM:+0100
TZOFFSETTO:+0200
TZNAME:CEST
DTSTART:20270328T010000
END:DAYLIGHT
BEGIN:STANDARD
TZOFFSETFROM:+0200
TZOFFSETTO:+0100
TZNAME:CET
DTSTART:20271031T010000
END:STANDARD
END:VTIMEZONE
BEGIN:VEVENT
DTSTART;TZID=Europe/Brussels:20260421T090000
DTEND;TZID=Europe/Brussels:20260421T120000
DTSTAMP:20260421T015532
CREATED:20260408T091601Z
LAST-MODIFIED:20260408T095310Z
UID:30967-1776762000-1776772800@www.cricharleroi.be
SUMMARY:📝 Module 8 : Mobilité - se déplacer pour se former\, travailler et s'intégrer
DESCRIPTION:Contenu\nQuel que soit le projet individuel (social\, professionnel\, éducatif\, …)\, la mobilité est un\nsocle important et très souvent mal maitrisé. Pourtant\, nous vivons dans une société qui\nnous met à disposition une multitude de solutions pour permettre à chacun.e d’aller d’un\npoint à un autre selon ses besoins et envies.\nMais comment savoir ce qui conviendra à mon budget\, à ma logistique\, à mes objectifs ?\nComment bien choisir mon mode de déplacement quotidien pour circuler efficacement et\narriver à destination avec ponctualité ? Comment me déplacer à pied\, à vélo\, en transport\nen commun\, en voiture ?\nRéflexion autour des différentes situations de blocage et recherche de solutions de\nmobilité disponibles en Belgique pour accéder à l’emploi\, à la formation ou à des services\nadministratifs et sociaux.\nCette formation propose divers outils adaptés aux adultes et réplicables de manière\nautonome par chacun.e. \nObjectifs\nFaire de la mobilité une compétence acquise\, et permettre aux participant.e.s de : \n\nConnaître les différentes options de transport accessibles et abordables.\nDécouvrir comment se rendre à un lieu de formation\, de stage ou de travail.\nSavoir lire un plan\, consulter un horaire et utiliser les applications mobiles de transport\,\ngestion du temps.\nÉvaluer ses besoins personnels et construire un plan de mobilité adapté.\nAcheter un billet de transport en ligne.\n\n  \nMéthodologie\n\nPrésentation interactive des sites et applications numériques de transport.\nExercices pratiques à partir de situations réelles : planifier un trajet vers un centre\nde formation ou un lieu de travail.\nPartages d’expériences et conseils entre participants.\n\nPublic\n\nPersonnes étrangères ou d’origine étrangère ayant des difficultés à se déplacer pour\ndes raisons linguistiques\, sociales\, financières ou organisationnelles.\nPersonnes en recherche d’emploi\, en insertion ou en formation.\nAucune connaissance préalable requise (ni numérique ni géographique).\nParler et comprendre le français (niveau A2 min).\n\nIntervenante\nTatiana VYSOCHINA\, Chargée de projet Insertion Socio-Professionnelle au CRI Charleroi. \nInscription gratuite mais obligatoire en envoyant un mail à isp@cricharleroi.be en précisant\nvos Nom\, Prénom\, Téléphone et Module 8.
URL:https://www.cricharleroi.be/evenements/%f0%9f%93%9d-module-8-mobilite-se-deplacer-pour-se-former-travailler-et-sintegrer/
LOCATION:Centre Régional d’Intégration de Charleroi\, 23 rue Hanoteau\, Gilly\, Hainaut\, 6060\, Belgique
CATEGORIES:Formations
ATTACH;FMTTYPE=image/png:https://www.cricharleroi.be/wp-content/uploads/2026/04/NEWSLETTER_Canvas_2026_MODULE-08-scaled.png
END:VEVENT
BEGIN:VEVENT
DTSTART;TZID=Europe/Brussels:20260421T093000
DTEND;TZID=Europe/Brussels:20260421T153000
DTSTAMP:20260421T015532
CREATED:20251218T084913Z
LAST-MODIFIED:20260401T131028Z
UID:29834-1776763800-1776785400@www.cricharleroi.be
SUMMARY:📝 Module 7 : Optimiser ses chances – Préparation aux entretiens d’embauche
DESCRIPTION:Dates :           Les 13\, 14\, 16\, 17 avril 2026 de 9h30 à 15h30 \nObjectif : \nVotre candidature est envoyée et vous avez décroché un entretien. Mais la panique s’installe : comment ça va se passer ? Quelles questions le recruteur va-t-il poser et comment y répondre ? \nPas de stress\, cette formation est là pour vous préparer à cette étape avec sérénité. \nVous apprendrez à vous présenter en mettant en avant votre parcours\, vos expériences et vos motivations pour le poste. Vous serez également guidé.e pour anticiper les questions possibles et préparer vos réponses à l’avance. \nVous découvrirez également comment vous renseigner sur l’entreprise en consultant son site internet et comment répondre aux demandes spécifiques avant l’entretien. \nContenu : \n\nSe présenter efficacement : Apprendre à parler de son parcours\, ses expériences et ses motivations de manière claire et concise.\nPréparer les réponses aux questions courantes : Anticiper les questions fréquemment posées et préparer des réponses avec des exemples concrets\, en utilisant l’approche STAR.\nSe renseigner sur l’entreprise : Apprendre à rechercher des informations sur l’entreprise et préparer des questions à poser au recruteur.\nSimulations d’entretien : Faire des simulations d’entretien pour se familiariser avec l’ambiance et recevoir des retours sur ses réponses.\nAméliorer son expression : Travailler sur la fluidité du discours\, le stress et la gestion du temps pendant l’entretien.\nConseils pratiques : Discuter des attentes du recruteur (tenue\, ponctualité) et des documents à apporter.\n\nMéthodologie :  \nMise en situation et analyse de cas.  \nUn travail personnel à domicile est requis afin d’assurer le bon déroulement de la formation. Si\, vous êtes motivé.e\, ça ira tout seul ! 😉 \nREMARQUE : Merci d’apporter un CV actualisé et corrigé le jour de la formation\, ou de l’envoyer par mail à l’adresse suivante : iris.silva@cricharleroi.be\, en précisant le nom de la formation.  \nPublic : \nPersonnes de nationalité ou d’origine étrangère\, souhaitant se préparer efficacement à un entretien d’embauche. Parler et comprendre le français (niveau A2 min). \nIntervenante : \nIris SILVA VERISSIMO DA COSTA\, Chargée de projet en insertion socio-professionnelle au CRI Charleroi. \nInscription gratuite mais obligatoire en envoyant un mail à isp@chricharleroi.be en précisant vos Nom\, Prénom\, Téléphone et Module 7.
URL:https://www.cricharleroi.be/evenements/module-7-optimiser-ses-chances-preparation-aux-entretiens-dembauche-2/
LOCATION:SOLARIA\, Chaussée de Lodelinsart 100\, Gilly\, 6060
CATEGORIES:Formations
ATTACH;FMTTYPE=image/png:https://www.cricharleroi.be/wp-content/uploads/2025/12/NEWSLETTER_Canvas_2026_MODULE-07-scaled.png
END:VEVENT
END:VCALENDAR