BEGIN:VCALENDAR
VERSION:2.0
PRODID:-//Centre Régional d&#039;Intégration de Charleroi - ECPv6.15.20//NONSGML v1.0//EN
CALSCALE:GREGORIAN
METHOD:PUBLISH
X-WR-CALNAME:Centre Régional d&#039;Intégration de Charleroi
X-ORIGINAL-URL:https://www.cricharleroi.be
X-WR-CALDESC:Évènements pour Centre Régional d&#039;Intégration de Charleroi
REFRESH-INTERVAL;VALUE=DURATION:PT1H
X-Robots-Tag:noindex
X-PUBLISHED-TTL:PT1H
BEGIN:VTIMEZONE
TZID:Europe/Brussels
BEGIN:DAYLIGHT
TZOFFSETFROM:+0100
TZOFFSETTO:+0200
TZNAME:CEST
DTSTART:20250330T010000
END:DAYLIGHT
BEGIN:STANDARD
TZOFFSETFROM:+0200
TZOFFSETTO:+0100
TZNAME:CET
DTSTART:20251026T010000
END:STANDARD
BEGIN:DAYLIGHT
TZOFFSETFROM:+0100
TZOFFSETTO:+0200
TZNAME:CEST
DTSTART:20260329T010000
END:DAYLIGHT
BEGIN:STANDARD
TZOFFSETFROM:+0200
TZOFFSETTO:+0100
TZNAME:CET
DTSTART:20261025T010000
END:STANDARD
BEGIN:DAYLIGHT
TZOFFSETFROM:+0100
TZOFFSETTO:+0200
TZNAME:CEST
DTSTART:20270328T010000
END:DAYLIGHT
BEGIN:STANDARD
TZOFFSETFROM:+0200
TZOFFSETTO:+0100
TZNAME:CET
DTSTART:20271031T010000
END:STANDARD
END:VTIMEZONE
BEGIN:VEVENT
DTSTART;TZID=Europe/Brussels:20260127T090000
DTEND;TZID=Europe/Brussels:20260127T120000
DTSTAMP:20260421T104924
CREATED:20251217T125250Z
LAST-MODIFIED:20251217T125250Z
UID:29802-1769504400-1769515200@www.cricharleroi.be
SUMMARY:📝 Module 2 : Et si je prenais ma vie en main ?
DESCRIPTION:Renforcer mon pouvoir d’agir pour avancer professionnellement en Belgique \nIntroduction\nMalgré ce qu’on te propose\, ce que tu imagines ou ce que tu espères\, tu as parfois du mal à passer à l’action\, à avancer dans ta vie. Tu ne te vois pas réellement progresser. Et tu ne sais même pas toujours par où et comment commencer…\nEt si tu avais le pouvoir de changer ça ? Et si ce pouvoir d’agir était déjà en toi ?\nC’est peut-être le moment de le découvrir et de lui laisser prendre les commandes de ta destinée.\nCe module réparti sur 2 matinées va t’aider à : \n\nRepérer ce qui te freine pour atteindre ton but\nComprendre ce dont tu as besoin pour avancer dans ta vie professionnelle\nReconnaître tes forces et tes ressources\, et les mobiliser concrètement\nDécouvrir et décider comment agir pour construire ton avenir ici en Belgique\nGagner en confiance et en autonomie\nFaire un premier pas vers le changement\, à ton rythme.\n\nCe module ne cherche pas à « forcer » un changement mais à offrir les premières clés et outils pour commencer un cheminement concret. \nContenu :\nLa 1ère matinée consistera à partir d’outils simples et visuels pour identifier mes forces\, mes compétences et savoir-faire\, comprendre ce qui me bloque aujourd’hui (peurs\, obstacles)\, définir ce qui est à changer et les petites actions possibles. \nDécouverte du concept du DPA – Développement du Pouvoir d’Agir.\nExercices de créativité pour alimenter une boîte à idées. \nChoix par le groupe d’un mini-projet\, d’une activité à développer pour la 2ème matinée selon des thèmes et objectifs concertés\, et au regard des objectifs professionnels de chacun.e. \nElaboration d’un plan d’action individuel. \nConclusion sur les avancées constatées et les perspectives d’action à court terme. \nMéthodologie :\n• Activités participatives et interactives accessibles à tous.\n• Utilisation d’images\, post-its\, cartes et symboles.\n• Moments d’expression personnelle et d’échanges en groupe.\n• Co-création d’outils concrets : carte du monde\, arbre\, carte mémoire\, boîte à idée\, mini-projet\, plan d’action individuel.\n• Respect du rythme\, de l’histoire et des ressources de chacun.e. \nPublic :\nPersonnes de nationalité ou d’origine étrangère ayant un niveau de français A2 et souhaitant entrer dans une phase active de leur projet professionnel ou donner un coup d’accélérateur à leur carrière. \nIntervenante :\nTassadit BOUAMRA\, Professionnelle de la communication\, accompagnatrice de projets sociaux et communautaires\, étudiante en 3ème année Bachelier Assistante sociale (HELHA – Charleroi). \nInscription gratuite mais obligatoire en envoyant un mail à isp@chricharleroi.be en précisant vos Nom\, Prénom\, Téléphone et Module 2.
URL:https://www.cricharleroi.be/evenements/module-2-et-si-je-prenais-ma-vie-en-main/
LOCATION:Centre Régional d’Intégration de Charleroi\, 23 rue Hanoteau\, Gilly\, Hainaut\, 6060\, Belgique
CATEGORIES:Formations
ATTACH;FMTTYPE=image/png:https://www.cricharleroi.be/wp-content/uploads/2025/12/NEWSLETTER_Canvas_2026_MODULE-02-scaled.png
END:VEVENT
BEGIN:VEVENT
DTSTART;TZID=Europe/Brussels:20260127T093000
DTEND;TZID=Europe/Brussels:20260127T153000
DTSTAMP:20260421T104924
CREATED:20251211T094452Z
LAST-MODIFIED:20251211T094452Z
UID:29786-1769506200-1769527800@www.cricharleroi.be
SUMMARY:📝 Module 1 : Les bases du droit du travail pour réussir sa future prise de fonction
DESCRIPTION:Introduction : \nVous êtes à la recherche d’un emploi et souhaitez mieux connaître vos droits et obligations avant de décrocher le job de vos rêves ? Cette formation est faite pour vous ! \nGrâce à une approche simple et accessible\, vous découvrirez les bases essentielles de la législation du travail en Belgique. Des ateliers pratiques vous permettront d’assimiler concrètement les notions clés et d’être mieux préparé.e au monde professionnel. \nContenu : \n\nQui fait quoi ? Les institutions clés en Belgique du monde du travail\nLes contrats de travail : types de contrats\, clauses obligatoires et clauses interdites\nLes obligations des parties : devoirs de l’employeur et du travailleur\nLa rémunération : comprendre et analyser une fiche de paie\nLes congés légaux : types de congés\, conditions d’octroi et gestion en entreprise\nFin de contrat et sécurité sociale : licenciement\, démission\, rupture de commun accord\, chômage et allocations\nDiscrimination et égalité : cadre légal\, principes d’égalité et recours possibles.\n\nPublic : \nPersonnes de nationalité ou d’origine étrangère en recherche d’emploi souhaitant se préparer efficacement à une future prise de fonction ou tout simplement connaître leurs droits et leurs devoirs. Parler et comprendre le français (niveau minimum A2). \nIntervenante : Iris SILVA VERISSIMO DA COSTA\, Chargée de projet en insertion socio-professionnelle au CRI Charleroi. \nLieu : SORALIA\, Chaussée de Lodelinsart 100\, 6060 Gilly. \nInscription gratuite mais obligatoire en envoyant un mail à isp@chricharleroi.be en précisant vos Nom\, Prénom\, Téléphone et Module 1.
URL:https://www.cricharleroi.be/evenements/module-1-les-bases-du-droit-du-travail-pour-reussir-sa-future-prise-de-fonction-2/
LOCATION:SORALIA\, 100 Rue de Lodelinsart\, Gilly\, Hainaut\, 6060\, Belgium
CATEGORIES:Formations
ATTACH;FMTTYPE=image/png:https://www.cricharleroi.be/wp-content/uploads/2025/12/NEWSLETTER_Canvas_2026_MODULE-01-scaled.png
END:VEVENT
END:VCALENDAR